BEGIN:VCALENDAR
VERSION:2.0
PRODID:icalendar-ruby
CALSCALE:GREGORIAN
METHOD:PUBLISH
BEGIN:VEVENT
DTSTAMP:20260422T085549Z
UID:20-259185@indianlandpres.org
DTSTART:20261009T131500Z
DTEND:20261009T144500Z
CLASS:PUBLIC
CREATED:20260421T211909
DESCRIPTION:Led by Chris Conover\, Ephesians: Growing in Grace is a Bible s
 tudy written by Lydia Brownback.  This study reveals how believers\, thr
 ough union with Christ\, have been given everything they need for a joy-fi
 lled life of faith. In this New Testament epistle\, the apostle Paul revea
 ls how Christians grow as a spiritual family in thought\, word\, and deed 
 as together they live out their great spiritual privileges in their lives 
 and relationships. 
LAST-MODIFIED:20260421T211909
LOCATION:Various
SUMMARY:Women's Bible Study
URL;VALUE=URI:https://www.indianlandpres.org/events/womens-bible-study/2026
 -10-09
ATTACH;FILENAME=women_eph.png;FMTTYPE=image/png:https://dq5pwpg1q8ru0.cloud
 front.net/2026/01/13/15/40/55/b6cd953a-8448-4f18-904c-9d0a9d061899/women_e
 ph.png
END:VEVENT
END:VCALENDAR
