BEGIN:VCALENDAR
VERSION:2.0
PRODID:icalendar-ruby
CALSCALE:GREGORIAN
METHOD:PUBLISH
BEGIN:VEVENT
DTSTAMP:20260422T023030Z
UID:19-259139@indianlandpres.org
DTSTART:20260913T140000Z
DTEND:20260913T153000Z
CLASS:PUBLIC
CREATED:20260421T211909
DESCRIPTION:Come join us for worship every Sunday morning at 10:00 AM as we
  seek to understand the message of the Gospel of Mark and its meaning for 
 us today.\nHave questions? Contact us at pastor@indianlandpres.org\nHope t
 o see you Sunday!
LAST-MODIFIED:20260421T211909
LOCATION:CrossRidge Center Banquet Room
SUMMARY:Sunday Worship Service
URL;VALUE=URI:https://www.indianlandpres.org/events/sunday-worship-service-
 -19/2026-09-13
ATTACH;FILENAME=mark_screen.png;FMTTYPE=image/png:https://dq5pwpg1q8ru0.clo
 udfront.net/2025/12/30/15/35/10/4cf2789d-3602-4750-9130-b5d4eb9f3323/mark_
 screen.png
END:VEVENT
END:VCALENDAR
