BEGIN:VCALENDAR
VERSION:2.0
PRODID:icalendar-ruby
CALSCALE:GREGORIAN
METHOD:PUBLISH
BEGIN:VEVENT
DTSTAMP:20260422T020352Z
UID:27-259217@indianlandpres.org
DTSTART:20260913T223000Z
DTEND:20260913T233000Z
CLASS:PUBLIC
CREATED:20260421T211909
DESCRIPTION:From beginning to end\, the Bible reveals God’s gracious plan
  of salvation. To trace this unfolding plan and to find our place within i
 t\, Christians must give careful attention to the covenants God makes in S
 cripture. \nIn Signed\, Sealed\, Delivered\, Dr. J.V. Fesko introduces the
  essential elements of Reformed covenant theology. This classical approach
  to reading God’s Word shows us how the whole Bible fits together with J
 esus Christ at its center. Christians also gain clarity on the continuity 
 of God’s promises to His people throughout history. In this way\, covena
 nt theology can hone our focus on the gospel\, enrich our understanding of
  the sacraments\, and deepen our love for the church\, all to the glory of
  God.
LAST-MODIFIED:20260421T211909
LOCATION:Jeff & Patty Sisemoore's
SUMMARY:Signed\, Sealed\, Delivered
URL;VALUE=URI:https://www.indianlandpres.org/events/signed-sealed-delivered
 /2026-09-13
ATTACH;FILENAME=cov_theo_fesko.png;FMTTYPE=image/png:https://dq5pwpg1q8ru0.
 cloudfront.net/2026/02/26/16/39/37/c32c1942-6808-467a-93d8-7770343ec161/co
 v_theo_fesko.png
END:VEVENT
END:VCALENDAR
