BEGIN:VCALENDAR
VERSION:2.0
PRODID:icalendar-ruby
CALSCALE:GREGORIAN
METHOD:PUBLISH
BEGIN:VEVENT
DTSTAMP:20260422T053447Z
UID:17-259099@indianlandpres.org
DTSTART:20260923T220000Z
DTEND:20260923T233000Z
CLASS:PUBLIC
CREATED:20260421T211909
DESCRIPTION:There is a unity to the message of the Bible\, centered around 
 covenant theology\, related to God’s plan to restore broken human beings
  who have rebelled against him. Covenant theology explains how we became b
 roken and how God plans to save us.\n 
LAST-MODIFIED:20260421T211909
LOCATION:Zach & Mary Grace Hollins - Capital Club Apartments - Indian Land
SUMMARY:Community Group - Capital Club
URL;VALUE=URI:https://www.indianlandpres.org/events/community-group-capital
 -club/2026-09-23
ATTACH;FILENAME=covenants.png;FMTTYPE=image/png:https://dq5pwpg1q8ru0.cloud
 front.net/2026/01/13/14/05/01/a7f373fc-af7f-47ad-84eb-4ba6d62d9818/covenan
 ts.png
END:VEVENT
END:VCALENDAR
